BEGIN:VCALENDAR
VERSION:2.0
PRODID:-//hacksw/handcal//NONSGML v1.0//EN
CALSCALE:GREGORIAN
BEGIN:VEVENT
LOCATION:
DESCRIPTION:
DTSTART:20210301T230000Z
DTEND:20210302T020000Z
SUMMARY:Board of Education Meeting
URL;VALUE=URI:https://maine207.org/event/board-of-education-meeting-33/
DTSTAMP:20260423T165520Z
UID:69ea4ef8cdd58
END:VEVENT
END:VCALENDAR