BEGIN:VCALENDAR
VERSION:2.0
PRODID:-//hacksw/handcal//NONSGML v1.0//EN
CALSCALE:GREGORIAN
BEGIN:VEVENT
LOCATION:
DESCRIPTION:
DTSTART:20260515T120000Z
DTEND:20260515T140000Z
SUMMARY: Committee of the Whole Meeting
URL;VALUE=URI:https://maine207.org/event/finance-buildings-grounds-committee-meetings-17/
DTSTAMP:20260420T192559Z
UID:69e67dc7f1b13
END:VEVENT
END:VCALENDAR