BEGIN:VCALENDAR
VERSION:2.0
PRODID:-//hacksw/handcal//NONSGML v1.0//EN
CALSCALE:GREGORIAN
BEGIN:VEVENT
LOCATION:
DESCRIPTION:
DTSTART:20210215T000000Z
DTEND:20210215T000000Z
SUMMARY:No School
URL;VALUE=URI:https://maine207.org/event/no-school-84/
DTSTAMP:20260423T165204Z
UID:69ea4e34bf572
END:VEVENT
END:VCALENDAR