BEGIN:VCALENDAR
VERSION:2.0
PRODID:-//hacksw/handcal//NONSGML v1.0//EN
CALSCALE:GREGORIAN
BEGIN:VEVENT
LOCATION:
DESCRIPTION:
DTSTART:20210322T000000Z
DTEND:20210322T000000Z
SUMMARY:No School
URL;VALUE=URI:https://maine207.org/event/no-school-85/
DTSTAMP:20260423T165905Z
UID:69ea4fd950acc
END:VEVENT
END:VCALENDAR