BEGIN:VCALENDAR
VERSION:2.0
PRODID:-//hacksw/handcal//NONSGML v1.0//EN
CALSCALE:GREGORIAN
BEGIN:VEVENT
LOCATION:Administration Center Conference Room 110
DESCRIPTION:
DTSTART:20210621T214500Z
DTEND:20210621T224500Z
SUMMARY:Buildings & Grounds Committee Meeting
URL;VALUE=URI:https://maine207.org/event/proposed-buildings-grounds-committee-meeting-6/
DTSTAMP:20260423T170013Z
UID:69ea501d0a5fd
END:VEVENT
END:VCALENDAR