BEGIN:VCALENDAR
VERSION:2.0
PRODID:-//hacksw/handcal//NONSGML v1.0//EN
CALSCALE:GREGORIAN
BEGIN:VEVENT
LOCATION:Virtual
DESCRIPTION:
DTSTART:20210222T230000Z
DTEND:20210223T000000Z
SUMMARY:Special Board of Education Meeting
URL;VALUE=URI:https://maine207.org/event/proposed-finance-committee-meeting-7/
DTSTAMP:20260423T165608Z
UID:69ea4f280a5af
END:VEVENT
END:VCALENDAR