BEGIN:VCALENDAR
VERSION:2.0
PRODID:-//hacksw/handcal//NONSGML v1.0//EN
CALSCALE:GREGORIAN
BEGIN:VEVENT
LOCATION:
DESCRIPTION:
DTSTART:20210315T000000Z
DTEND:20210315T000000Z
SUMMARY:Quarter 3 Ends
URL;VALUE=URI:https://maine207.org/event/quarter-3-ends/
DTSTAMP:20260423T165322Z
UID:69ea4e82063a2
END:VEVENT
END:VCALENDAR